BEGIN:VCALENDAR
VERSION:2.0
PRODID:-//ELTA - ECPv6.15.20//NONSGML v1.0//EN
CALSCALE:GREGORIAN
METHOD:PUBLISH
X-WR-CALNAME:ELTA
X-ORIGINAL-URL:https://echolaketrails.org
X-WR-CALDESC:Events for ELTA
REFRESH-INTERVAL;VALUE=DURATION:PT1H
X-Robots-Tag:noindex
X-PUBLISHED-TTL:PT1H
BEGIN:VTIMEZONE
TZID:America/Boise
BEGIN:DAYLIGHT
TZOFFSETFROM:-0700
TZOFFSETTO:-0600
TZNAME:MDT
DTSTART:20190310T090000
END:DAYLIGHT
BEGIN:STANDARD
TZOFFSETFROM:-0600
TZOFFSETTO:-0700
TZNAME:MST
DTSTART:20191103T080000
END:STANDARD
BEGIN:DAYLIGHT
TZOFFSETFROM:-0700
TZOFFSETTO:-0600
TZNAME:MDT
DTSTART:20200308T090000
END:DAYLIGHT
BEGIN:STANDARD
TZOFFSETFROM:-0600
TZOFFSETTO:-0700
TZNAME:MST
DTSTART:20201101T080000
END:STANDARD
BEGIN:DAYLIGHT
TZOFFSETFROM:-0700
TZOFFSETTO:-0600
TZNAME:MDT
DTSTART:20210314T090000
END:DAYLIGHT
BEGIN:STANDARD
TZOFFSETFROM:-0600
TZOFFSETTO:-0700
TZNAME:MST
DTSTART:20211107T080000
END:STANDARD
BEGIN:DAYLIGHT
TZOFFSETFROM:-0700
TZOFFSETTO:-0600
TZNAME:MDT
DTSTART:20220313T090000
END:DAYLIGHT
BEGIN:STANDARD
TZOFFSETFROM:-0600
TZOFFSETTO:-0700
TZNAME:MST
DTSTART:20221106T080000
END:STANDARD
BEGIN:DAYLIGHT
TZOFFSETFROM:-0700
TZOFFSETTO:-0600
TZNAME:MDT
DTSTART:20230312T090000
END:DAYLIGHT
BEGIN:STANDARD
TZOFFSETFROM:-0600
TZOFFSETTO:-0700
TZNAME:MST
DTSTART:20231105T080000
END:STANDARD
BEGIN:DAYLIGHT
TZOFFSETFROM:-0700
TZOFFSETTO:-0600
TZNAME:MDT
DTSTART:20240310T090000
END:DAYLIGHT
BEGIN:STANDARD
TZOFFSETFROM:-0600
TZOFFSETTO:-0700
TZNAME:MST
DTSTART:20241103T080000
END:STANDARD
BEGIN:DAYLIGHT
TZOFFSETFROM:-0700
TZOFFSETTO:-0600
TZNAME:MDT
DTSTART:20250309T090000
END:DAYLIGHT
BEGIN:STANDARD
TZOFFSETFROM:-0600
TZOFFSETTO:-0700
TZNAME:MST
DTSTART:20251102T080000
END:STANDARD
END:VTIMEZONE
BEGIN:VEVENT
DTSTART;TZID=America/Boise:20240303T110000
DTEND;TZID=America/Boise:20240303T160000
DTSTAMP:20260422T160412
CREATED:20240228T024956Z
LAST-MODIFIED:20240228T025000Z
UID:1174-1709463600-1709481600@echolaketrails.org
SUMMARY:ELTA's 10th Birthday Party and ski clinics
DESCRIPTION:Come celebrate a milestone as we turn 10 years old. We are offering a Classic ski clinic at 11 am and Skate Ski clinic at 1:30 pm\, followed by some brats/dogs\, treats\, raffle prizes and more. It’s all happening at the Midway parking lot/trail head.  See you there!
URL:https://echolaketrails.org/index.php/event/eltas-10th-birthday-party-and-ski-clinics/
END:VEVENT
BEGIN:VEVENT
DTSTART;TZID=America/Boise:20200308T180000
DTEND;TZID=America/Boise:20200308T180000
DTSTAMP:20260422T160412
CREATED:20200214T012953Z
LAST-MODIFIED:20200220T041838Z
UID:556-1583690400-1583690400@echolaketrails.org
SUMMARY:ELTA Birthday Party
DESCRIPTION:Help us celebrate 6 awesome years of the Echo Lake Trails Association! Bring a side dish\, we’ll bring the brats and beer\, beginning at 11 am at the Midway Warming Hut. Get out for a ski and visit.  Join us at the Philipsburg Brewery afterwards 3-6 pm for a fundraising good time.
URL:https://echolaketrails.org/index.php/event/elta-birthday-party/
CATEGORIES:ELTA Events
END:VEVENT
END:VCALENDAR